BEGIN:VCALENDAR
VERSION:2.0
PRODID:-//LRV Kärnten - ECPv6.15.20//NONSGML v1.0//EN
CALSCALE:GREGORIAN
METHOD:PUBLISH
X-WR-CALNAME:LRV Kärnten
X-ORIGINAL-URL:https://lrv-kaernten.at
X-WR-CALDESC:Veranstaltungen für LRV Kärnten
REFRESH-INTERVAL;VALUE=DURATION:PT1H
X-Robots-Tag:noindex
X-PUBLISHED-TTL:PT1H
BEGIN:VTIMEZONE
TZID:Europe/Vienna
BEGIN:DAYLIGHT
TZOFFSETFROM:+0100
TZOFFSETTO:+0200
TZNAME:CEST
DTSTART:20250330T010000
END:DAYLIGHT
BEGIN:STANDARD
TZOFFSETFROM:+0200
TZOFFSETTO:+0100
TZNAME:CET
DTSTART:20251026T010000
END:STANDARD
BEGIN:DAYLIGHT
TZOFFSETFROM:+0100
TZOFFSETTO:+0200
TZNAME:CEST
DTSTART:20260329T010000
END:DAYLIGHT
BEGIN:STANDARD
TZOFFSETFROM:+0200
TZOFFSETTO:+0100
TZNAME:CET
DTSTART:20261025T010000
END:STANDARD
BEGIN:DAYLIGHT
TZOFFSETFROM:+0100
TZOFFSETTO:+0200
TZNAME:CEST
DTSTART:20270328T010000
END:DAYLIGHT
BEGIN:STANDARD
TZOFFSETFROM:+0200
TZOFFSETTO:+0100
TZNAME:CET
DTSTART:20271031T010000
END:STANDARD
END:VTIMEZONE
BEGIN:VEVENT
DTSTART;VALUE=DATE:20260804
DTEND;VALUE=DATE:20260806
DTSTAMP:20260421T163027
CREATED:20260228T104651Z
LAST-MODIFIED:20260228T104651Z
UID:892-1785801600-1785974399@lrv-kaernten.at
SUMMARY:Bahn Omnium Linz (KM)
DESCRIPTION:Im Rahmen der ÖSTM Bahn – Teil 2 werden auch die Kärntner Meisterschaften im Bahn-Omnium ausgetragen.Die Titelkämpfe finden im renommierten Velo­drom Linz in Linz statt.Spannende Wettkämpfe und hochklassiger Bahnradsport sind garantiert.
URL:https://lrv-kaernten.at/event/bahn-omnium-linz-km/
LOCATION:hello yellow Velodrom by Schachermayer\, Prinz-Eugen-Straße 30\, Linz\, Oberösterreich\, 4020\, Austria
CATEGORIES:Straße
ATTACH;FMTTYPE=image/jpeg:https://lrv-kaernten.at/wp-content/uploads/2026/02/54627985137_d5921936a2_b.jpg
ORGANIZER;CN="Cycling Austria":MAILTO:office@radsportverband.at
END:VEVENT
BEGIN:VEVENT
DTSTART;VALUE=DATE:20260814
DTEND;VALUE=DATE:20260817
DTSTAMP:20260421T163027
CREATED:20260228T115740Z
LAST-MODIFIED:20260324T153200Z
UID:913-1786665600-1786924799@lrv-kaernten.at
SUMMARY:Alpe Adria Tour
DESCRIPTION:Die Alpe Adria Tour ist ein mehrtägiges Etappenrennen für Nachwuchs‑Radsportler:innen mit verschiedensten Disziplinen wie Zeitfahren\, Bergrennen und Straßenrennen  – sie zählt zu den größten Nachwuchs‑Radsport‑Veranstaltungen in der Region und wird über mehrere Tage mit anspruchsvollen Etappen ausgetragen. Das Format verbindet sportliche Herausforderung mit breiter Teilnahme aus mehreren Altersklassen von U13 bis Junioren und bietet spannende Rennen in unterschiedlichen Terrainarten. Traditionell finden die Etappen an unterschiedlichen Orten statt und machen die Tour zu einem sportlichen Highlight im Kärntner Radsportkalender. \nAusschreibung
URL:https://lrv-kaernten.at/event/alpe-adria-tour/
LOCATION:Kärnten
CATEGORIES:Straße
ATTACH;FMTTYPE=image/jpeg:https://lrv-kaernten.at/wp-content/uploads/2026/02/53932155520_6a8de4583a_o.jpg
ORGANIZER;CN="RC KAC":MAILTO:office@rc-kac.at
END:VEVENT
BEGIN:VEVENT
DTSTART;VALUE=DATE:20260830
DTEND;VALUE=DATE:20260831
DTSTAMP:20260421T163027
CREATED:20260227T132908Z
LAST-MODIFIED:20260228T113811Z
UID:864-1788048000-1788134399@lrv-kaernten.at
SUMMARY:28. ARBÖ Helvetia Berpreis Afritz – Verditz 2026
DESCRIPTION:Jedermannrennen für Alt und Jung mit Rennrad\, MTB und E-Bike zugleich Kärntner Bergmeisterschaft 2026. \nAusschreibung
URL:https://lrv-kaernten.at/event/28-arboe-helvetia-berpreis-afritz-verditz-2026/
LOCATION:Afritz\, Millstätter Straße 33\, Afritz am See\, Kärnten\, 9542\, Austria
CATEGORIES:Straße
ATTACH;FMTTYPE=image/jpeg:https://lrv-kaernten.at/wp-content/uploads/2026/02/Bild-Bergrennen-Verditz-002.jpg
ORGANIZER;CN="Radclub Feld am See":MAILTO:radclubfeldamsee@gmx.at
END:VEVENT
END:VCALENDAR