BEGIN:VCALENDAR
VERSION:2.0
PRODID:-//LRV Kärnten - ECPv6.15.20//NONSGML v1.0//EN
CALSCALE:GREGORIAN
METHOD:PUBLISH
X-ORIGINAL-URL:https://lrv-kaernten.at
X-WR-CALDESC:Veranstaltungen für LRV Kärnten
REFRESH-INTERVAL;VALUE=DURATION:PT1H
X-Robots-Tag:noindex
X-PUBLISHED-TTL:PT1H
BEGIN:VTIMEZONE
TZID:Europe/Vienna
BEGIN:DAYLIGHT
TZOFFSETFROM:+0100
TZOFFSETTO:+0200
TZNAME:CEST
DTSTART:20250330T010000
END:DAYLIGHT
BEGIN:STANDARD
TZOFFSETFROM:+0200
TZOFFSETTO:+0100
TZNAME:CET
DTSTART:20251026T010000
END:STANDARD
BEGIN:DAYLIGHT
TZOFFSETFROM:+0100
TZOFFSETTO:+0200
TZNAME:CEST
DTSTART:20260329T010000
END:DAYLIGHT
BEGIN:STANDARD
TZOFFSETFROM:+0200
TZOFFSETTO:+0100
TZNAME:CET
DTSTART:20261025T010000
END:STANDARD
BEGIN:DAYLIGHT
TZOFFSETFROM:+0100
TZOFFSETTO:+0200
TZNAME:CEST
DTSTART:20270328T010000
END:DAYLIGHT
BEGIN:STANDARD
TZOFFSETFROM:+0200
TZOFFSETTO:+0100
TZNAME:CET
DTSTART:20271031T010000
END:STANDARD
END:VTIMEZONE
BEGIN:VEVENT
DTSTART;TZID=Europe/Vienna:20260604T120000
DTEND;TZID=Europe/Vienna:20260604T180000
DTSTAMP:20260421T132528
CREATED:20260117T234601Z
LAST-MODIFIED:20260227T133715Z
UID:181-1780574400-1780596000@lrv-kaernten.at
SUMMARY:Kriterium Grafenstein
DESCRIPTION:Radsport kehrt zurück nach Grafenstein! Zum zweiten Mal treten die besten Fahrer:innen beim Rennrad-Kriterium an\, Tempo und Spannung inklusive. Mit der zweiten Auflage setzen wir die Erfolgsgeschichte des Rennens in Grafenstein fort. \nAusschreibung \nAnmeldung \nWebsite
URL:https://lrv-kaernten.at/event/rennrad/
LOCATION:Grafenstein\, Alfa-Metall-Straße 11-1\, Grafenstein\, Kärnten\, 9131\, Austria
CATEGORIES:Straße
ATTACH;FMTTYPE=image/jpeg:https://lrv-kaernten.at/wp-content/uploads/2026/01/54601054483_3f56df0db4_o.jpg
END:VEVENT
BEGIN:VEVENT
DTSTART;TZID=Europe/Vienna:20260610T170000
DTEND;TZID=Europe/Vienna:20260610T190000
DTSTAMP:20260421T132528
CREATED:20260227T134616Z
LAST-MODIFIED:20260414T190421Z
UID:861-1781110800-1781118000@lrv-kaernten.at
SUMMARY:Alpenarena Racing Series 2026 – Rundstrecke
DESCRIPTION:Beim zweiten Bewerb des Cups des LRV Kärnten wartet in der Alpenarena eine spannende Rundstrecke auf alle Teilnehmerinnen und Teilnehmer. Ein packendes Rennen ist garantiert\, wenn es wieder um wertvolle Punkte für die Gesamtwertung geht. 🚴‍♂️ \nAusschreibung \nWebsite
URL:https://lrv-kaernten.at/event/rundstrecke-alpenarena-cup-2/
LOCATION:Alpenarena Villach\, Villacher Alpenstraße 2\, Villach\, Kärnten\, 9500\, Austria
CATEGORIES:Straße
ATTACH;FMTTYPE=image/jpeg:https://lrv-kaernten.at/wp-content/uploads/2026/02/54710185996_71ee1c5959_k.jpg
ORGANIZER;CN="Landesradsportverband K%C3%A4rnten":MAILTO:office@lrv-kaernten.at
END:VEVENT
END:VCALENDAR