BEGIN:VCALENDAR
VERSION:2.0
PRODID:-//LRV Kärnten - ECPv6.15.20//NONSGML v1.0//EN
CALSCALE:GREGORIAN
METHOD:PUBLISH
X-WR-CALNAME:LRV Kärnten
X-ORIGINAL-URL:https://lrv-kaernten.at
X-WR-CALDESC:Veranstaltungen für LRV Kärnten
REFRESH-INTERVAL;VALUE=DURATION:PT1H
X-Robots-Tag:noindex
X-PUBLISHED-TTL:PT1H
BEGIN:VTIMEZONE
TZID:Europe/Vienna
BEGIN:DAYLIGHT
TZOFFSETFROM:+0100
TZOFFSETTO:+0200
TZNAME:CEST
DTSTART:20250330T010000
END:DAYLIGHT
BEGIN:STANDARD
TZOFFSETFROM:+0200
TZOFFSETTO:+0100
TZNAME:CET
DTSTART:20251026T010000
END:STANDARD
BEGIN:DAYLIGHT
TZOFFSETFROM:+0100
TZOFFSETTO:+0200
TZNAME:CEST
DTSTART:20260329T010000
END:DAYLIGHT
BEGIN:STANDARD
TZOFFSETFROM:+0200
TZOFFSETTO:+0100
TZNAME:CET
DTSTART:20261025T010000
END:STANDARD
BEGIN:DAYLIGHT
TZOFFSETFROM:+0100
TZOFFSETTO:+0200
TZNAME:CEST
DTSTART:20270328T010000
END:DAYLIGHT
BEGIN:STANDARD
TZOFFSETFROM:+0200
TZOFFSETTO:+0100
TZNAME:CET
DTSTART:20271031T010000
END:STANDARD
END:VTIMEZONE
BEGIN:VEVENT
DTSTART;TZID=Europe/Vienna:20260514T080000
DTEND;TZID=Europe/Vienna:20261017T170000
DTSTAMP:20260422T224808
CREATED:20260409T185846Z
LAST-MODIFIED:20260409T185846Z
UID:1010-1778745600-1792256400@lrv-kaernten.at
SUMMARY:Jedermannradcup
DESCRIPTION:Ausschreibung
URL:https://lrv-kaernten.at/event/jedermannradcup/
LOCATION:Kärnten
CATEGORIES:Straße (Weitere Rennen)
ATTACH;FMTTYPE=image/jpeg:https://lrv-kaernten.at/wp-content/uploads/2026/04/480743761_1443942550345195_3664885046570892959_n.jpg
ORGANIZER;CN="Radclub Feld am See":MAILTO:radclubfeldamsee@gmx.at
END:VEVENT
BEGIN:VEVENT
DTSTART;VALUE=DATE:20261010
DTEND;VALUE=DATE:20261011
DTSTAMP:20260422T224808
CREATED:20260301T163338Z
LAST-MODIFIED:20260301T163338Z
UID:934-1791590400-1791676799@lrv-kaernten.at
SUMMARY:LAKE.BIKE Seeduro XCO Finkenstein
DESCRIPTION:Direkt am Fuße der Burg Alt-Finkenstein und am erweiterten Parkplatzgelände der Eventhalle ermitteln wir im finalen XCO der Saison 2026 die Meister:innen ihrer Klassen! \nEin Rundkurs mit allen Elementen des XCO-Bereichs – schnelle Geraden\, verwinkelte Kurven\, leichte Anstiege\, kurze Downhills und rasante Abfahrten – was will man mehr? \nErstmalig besteht hier am Nachmittag die Möglichkeit\, beim LAKE.BIKE Road Race-Kids erste Erfahrungen auf dem Rennrad zu sammeln. Ebenso kann man den Enduro-Rider:innen bei den Stage-Trainingsläufen im Gebiet der Baumgartnertrails zusehen und so die Zeit bis zur gemeinsamen Siegerehrung verkürzen!
URL:https://lrv-kaernten.at/event/lake-bike-seeduro-xco-finkenstein/
LOCATION:Finkenstein\, Altfinkenstein 14\, Altfinkenstein\, Kärnten\, 9582\, Austria
CATEGORIES:MTB
ATTACH;FMTTYPE=image/jpeg:https://lrv-kaernten.at/wp-content/uploads/2026/03/WhatsApp-Image-2026-03-01-at-08.04.24.jpeg
ORGANIZER;CN="Mountain Sport Union Klagenfurt":MAILTO:verein@mountainsport.at
END:VEVENT
BEGIN:VEVENT
DTSTART;VALUE=DATE:20261010
DTEND;VALUE=DATE:20261011
DTSTAMP:20260422T224808
CREATED:20260301T164430Z
LAST-MODIFIED:20260316T171611Z
UID:940-1791590400-1791676799@lrv-kaernten.at
SUMMARY:LAKE.BIKE Road Race-Kids
DESCRIPTION:Erstmalig wird ein Rundkurs von gut 5 km in Latschach am Fuße der Auffahrt zur Burg Alt-Finkenstein ausgetragen. Je Alterskategorie sind hier gemäß den Vorgaben die entsprechenden Runden zu absolvieren. \nDie Veranstaltung findet am Nachmittag statt. All jene\, die sich im MTB-Bereich „aufwärmen“ und zusätzliche Cuppunkte einfahren möchten\, haben dazu am Vormittag bei der LAKE.BIKE Seeduro XCO Finkenstein in Altfinkenstein die Möglichkeit. \nDie Siegerehrung des LAKE.BIKE Road Race-Kids sowie der LAKE.BIKE Seeduro XCO Finkenstein findet um 18:00 Uhr in der Eventhalle neben der Burgruine statt. \n 
URL:https://lrv-kaernten.at/event/lake-bike-road-race-kids/
LOCATION:Latschach\, Kulturhausstraße 11\, Latschach\, Kärnten\, 9582\, Austria
CATEGORIES:Straße
ATTACH;FMTTYPE=image/jpeg:https://lrv-kaernten.at/wp-content/uploads/2025/12/dsc03546_54710252171_o.jpg
ORGANIZER;CN="Mountain Sport Union Klagenfurt":MAILTO:verein@mountainsport.at
END:VEVENT
END:VCALENDAR