BEGIN:VCALENDAR
VERSION:2.0
PRODID:-//LRV Kärnten - ECPv6.15.20//NONSGML v1.0//EN
CALSCALE:GREGORIAN
METHOD:PUBLISH
X-WR-CALNAME:LRV Kärnten
X-ORIGINAL-URL:https://lrv-kaernten.at
X-WR-CALDESC:Veranstaltungen für LRV Kärnten
REFRESH-INTERVAL;VALUE=DURATION:PT1H
X-Robots-Tag:noindex
X-PUBLISHED-TTL:PT1H
BEGIN:VTIMEZONE
TZID:Europe/Vienna
BEGIN:DAYLIGHT
TZOFFSETFROM:+0100
TZOFFSETTO:+0200
TZNAME:CEST
DTSTART:20250330T010000
END:DAYLIGHT
BEGIN:STANDARD
TZOFFSETFROM:+0200
TZOFFSETTO:+0100
TZNAME:CET
DTSTART:20251026T010000
END:STANDARD
BEGIN:DAYLIGHT
TZOFFSETFROM:+0100
TZOFFSETTO:+0200
TZNAME:CEST
DTSTART:20260329T010000
END:DAYLIGHT
BEGIN:STANDARD
TZOFFSETFROM:+0200
TZOFFSETTO:+0100
TZNAME:CET
DTSTART:20261025T010000
END:STANDARD
BEGIN:DAYLIGHT
TZOFFSETFROM:+0100
TZOFFSETTO:+0200
TZNAME:CEST
DTSTART:20270328T010000
END:DAYLIGHT
BEGIN:STANDARD
TZOFFSETFROM:+0200
TZOFFSETTO:+0100
TZNAME:CET
DTSTART:20271031T010000
END:STANDARD
END:VTIMEZONE
BEGIN:VEVENT
DTSTART;TZID=Europe/Vienna:20260514T080000
DTEND;TZID=Europe/Vienna:20261017T170000
DTSTAMP:20260422T154216
CREATED:20260409T185846Z
LAST-MODIFIED:20260409T185846Z
UID:1010-1778745600-1792256400@lrv-kaernten.at
SUMMARY:Jedermannradcup
DESCRIPTION:Ausschreibung
URL:https://lrv-kaernten.at/event/jedermannradcup/
LOCATION:Kärnten
CATEGORIES:Straße (Weitere Rennen)
ATTACH;FMTTYPE=image/jpeg:https://lrv-kaernten.at/wp-content/uploads/2026/04/480743761_1443942550345195_3664885046570892959_n.jpg
ORGANIZER;CN="Radclub Feld am See":MAILTO:radclubfeldamsee@gmx.at
END:VEVENT
BEGIN:VEVENT
DTSTART;VALUE=DATE:20260814
DTEND;VALUE=DATE:20260817
DTSTAMP:20260422T154216
CREATED:20260228T115740Z
LAST-MODIFIED:20260324T153200Z
UID:913-1786665600-1786924799@lrv-kaernten.at
SUMMARY:Alpe Adria Tour
DESCRIPTION:Die Alpe Adria Tour ist ein mehrtägiges Etappenrennen für Nachwuchs‑Radsportler:innen mit verschiedensten Disziplinen wie Zeitfahren\, Bergrennen und Straßenrennen  – sie zählt zu den größten Nachwuchs‑Radsport‑Veranstaltungen in der Region und wird über mehrere Tage mit anspruchsvollen Etappen ausgetragen. Das Format verbindet sportliche Herausforderung mit breiter Teilnahme aus mehreren Altersklassen von U13 bis Junioren und bietet spannende Rennen in unterschiedlichen Terrainarten. Traditionell finden die Etappen an unterschiedlichen Orten statt und machen die Tour zu einem sportlichen Highlight im Kärntner Radsportkalender. \nAusschreibung
URL:https://lrv-kaernten.at/event/alpe-adria-tour/
LOCATION:Kärnten
CATEGORIES:Straße
ATTACH;FMTTYPE=image/jpeg:https://lrv-kaernten.at/wp-content/uploads/2026/02/53932155520_6a8de4583a_o.jpg
ORGANIZER;CN="RC KAC":MAILTO:office@rc-kac.at
END:VEVENT
END:VCALENDAR